BEGIN:VCALENDAR
VERSION:2.0
PRODID:-//Snowball Farm - Equestrian Centre - ECPv5.14.0.4//NONSGML v1.0//EN
CALSCALE:GREGORIAN
METHOD:PUBLISH
X-WR-CALNAME:Snowball Farm - Equestrian Centre
X-ORIGINAL-URL:https://www.snowballfarm.co.uk
X-WR-CALDESC:Events for Snowball Farm - Equestrian Centre
BEGIN:VTIMEZONE
TZID:UTC
BEGIN:STANDARD
TZOFFSETFROM:+0000
TZOFFSETTO:+0000
TZNAME:UTC
DTSTART:20240101T000000
END:STANDARD
END:VTIMEZONE
BEGIN:VEVENT
DTSTART;TZID=UTC:20240423T080000
DTEND;TZID=UTC:20240527T180000
DTSTAMP:20260420T072446
CREATED:20240213T122146Z
LAST-MODIFIED:20240213T122146Z
UID:3474-1713859200-1716832800@www.snowballfarm.co.uk
SUMMARY:XC Course Hire
DESCRIPTION:To enter for an event\, click here\, this will open a new page (please make sure you have enabled pop-ups). To add the event to your own calendar\, click the ‘outlook’ icon to download the ‘ics file’ for event details.\nIf you experience any difficulties making an entry\, please\ncall 07798 626075 or\nemail support@affairsgroup.co.uk\n\nView your FREE Online Entries Account:\nTrack your Entries\, Times & Results
URL:https://www.snowballfarm.co.uk/event/xc-course-hire-2/
CATEGORIES:Facilities Hire
END:VEVENT
END:VCALENDAR