BEGIN:VCALENDAR
VERSION:2.0
PRODID:-//Snowball Farm - Equestrian Centre - ECPv5.14.0.4//NONSGML v1.0//EN
CALSCALE:GREGORIAN
METHOD:PUBLISH
X-WR-CALNAME:Snowball Farm - Equestrian Centre
X-ORIGINAL-URL:https://www.snowballfarm.co.uk
X-WR-CALDESC:Events for Snowball Farm - Equestrian Centre
BEGIN:VTIMEZONE
TZID:UTC
BEGIN:STANDARD
TZOFFSETFROM:+0000
TZOFFSETTO:+0000
TZNAME:UTC
DTSTART:20210101T000000
END:STANDARD
END:VTIMEZONE
BEGIN:VEVENT
DTSTART;VALUE=DATE:20211003
DTEND;VALUE=DATE:20211004
DTSTAMP:20260425T153929
CREATED:20201213T163552Z
LAST-MODIFIED:20210926T115622Z
UID:2894-1633219200-1633305599@www.snowballfarm.co.uk
SUMMARY:Unaffiliated / Club / JFS Show Jumping
DESCRIPTION:To enter for an event\, click here\, this will open a new page (please make sure you have enabled pop-ups). To add the event to your own calendar\, click the ‘outlook’ icon to download the ‘ics file’ for event details.\nIf you experience any difficulties making an entry\, please\ncall 07798 626075 or\nemail support@affairsgroup.co.uk\n\nView your FREE Online Entries Account:\nTrack your Entries\, Times & Results \n 
URL:https://www.snowballfarm.co.uk/event/unaffiliated-club-jfs-show-jumping-16/
CATEGORIES:Cancelled
END:VEVENT
END:VCALENDAR