BEGIN:VCALENDAR
VERSION:2.0
PRODID:-//Snowball Farm - Equestrian Centre - ECPv5.14.0.4//NONSGML v1.0//EN
CALSCALE:GREGORIAN
METHOD:PUBLISH
X-WR-CALNAME:Snowball Farm - Equestrian Centre
X-ORIGINAL-URL:https://www.snowballfarm.co.uk
X-WR-CALDESC:Events for Snowball Farm - Equestrian Centre
BEGIN:VTIMEZONE
TZID:UTC
BEGIN:STANDARD
TZOFFSETFROM:+0000
TZOFFSETTO:+0000
TZNAME:UTC
DTSTART:20240101T000000
END:STANDARD
END:VTIMEZONE
BEGIN:VEVENT
DTSTART;TZID=UTC:20241031T100000
DTEND;TZID=UTC:20241031T160000
DTSTAMP:20260420T020347
CREATED:20241023T144239Z
LAST-MODIFIED:20241023T144239Z
UID:3592-1730368800-1730390400@www.snowballfarm.co.uk
SUMMARY:Own A Pony Day
DESCRIPTION:A fun\, engaging day allowing you to understand what owning your own pony would involve. From mucking out to grooming as well as riding and turning out your Pony. \nOpen to Grade 1 – Grade 5\, age 6 yrs – 16 years \n£82 per person. \nAll bookings through ECPro: Snowball Farm
URL:https://www.snowballfarm.co.uk/event/own-a-pony-day-29/
CATEGORIES:Clients Activities
END:VEVENT
END:VCALENDAR