BEGIN:VCALENDAR
VERSION:2.0
PRODID:-//Snowball Farm - Equestrian Centre - ECPv5.14.0.4//NONSGML v1.0//EN
CALSCALE:GREGORIAN
METHOD:PUBLISH
X-WR-CALNAME:Snowball Farm - Equestrian Centre
X-ORIGINAL-URL:https://www.snowballfarm.co.uk
X-WR-CALDESC:Events for Snowball Farm - Equestrian Centre
BEGIN:VTIMEZONE
TZID:UTC
BEGIN:STANDARD
TZOFFSETFROM:+0000
TZOFFSETTO:+0000
TZNAME:UTC
DTSTART:20220101T000000
END:STANDARD
END:VTIMEZONE
BEGIN:VEVENT
DTSTART;VALUE=DATE:20220818
DTEND;VALUE=DATE:20220819
DTSTAMP:20260425T142435
CREATED:20220713T113937Z
LAST-MODIFIED:20220713T113937Z
UID:3217-1660780800-1660867199@www.snowballfarm.co.uk
SUMMARY:Own a Pony Day
DESCRIPTION:
URL:https://www.snowballfarm.co.uk/event/own-a-pony-day-24/
CATEGORIES:Clients Activities
END:VEVENT
END:VCALENDAR