BEGIN:VCALENDAR
VERSION:2.0
PRODID:-//Snowball Farm - Equestrian Centre - ECPv5.14.0.4//NONSGML v1.0//EN
CALSCALE:GREGORIAN
METHOD:PUBLISH
X-WR-CALNAME:Snowball Farm - Equestrian Centre
X-ORIGINAL-URL:https://www.snowballfarm.co.uk
X-WR-CALDESC:Events for Snowball Farm - Equestrian Centre
BEGIN:VTIMEZONE
TZID:UTC
BEGIN:STANDARD
TZOFFSETFROM:+0000
TZOFFSETTO:+0000
TZNAME:UTC
DTSTART:20210101T000000
END:STANDARD
END:VTIMEZONE
BEGIN:VEVENT
DTSTART;TZID=UTC:20211028T100000
DTEND;TZID=UTC:20211028T160000
DTSTAMP:20260426T000738
CREATED:20210918T111628Z
LAST-MODIFIED:20210918T111746Z
UID:3009-1635415200-1635436800@www.snowballfarm.co.uk
SUMMARY:OWN A PONY DAY
DESCRIPTION:A fun\, engaging day allowing you to understand what owning your own pony would involve. From mucking out to grooming as well as riding and turning out your Pony.  Suitable for clients Grade 1 – 6.\n£75 per person.\nAll bookings through our EC Pro. \nPlease call the office on 01628 666 222 or email us office@snowballfarm.co.uk for if you have any questions.
URL:https://www.snowballfarm.co.uk/event/own-a-pony-day-22/
CATEGORIES:Clients Activities
END:VEVENT
END:VCALENDAR