BEGIN:VCALENDAR
VERSION:2.0
PRODID:-//Snowball Farm - Equestrian Centre - ECPv5.14.0.4//NONSGML v1.0//EN
CALSCALE:GREGORIAN
METHOD:PUBLISH
X-WR-CALNAME:Snowball Farm - Equestrian Centre
X-ORIGINAL-URL:https://www.snowballfarm.co.uk
X-WR-CALDESC:Events for Snowball Farm - Equestrian Centre
BEGIN:VTIMEZONE
TZID:UTC
BEGIN:STANDARD
TZOFFSETFROM:+0000
TZOFFSETTO:+0000
TZNAME:UTC
DTSTART:20210101T000000
END:STANDARD
END:VTIMEZONE
BEGIN:VEVENT
DTSTART;TZID=UTC:20211029T100000
DTEND;TZID=UTC:20211029T160000
DTSTAMP:20260426T001708
CREATED:20210918T112148Z
LAST-MODIFIED:20210918T112148Z
UID:3015-1635501600-1635523200@www.snowballfarm.co.uk
SUMMARY:OWN A HORSE DAY
DESCRIPTION:A fun\, engaging day allowing you to understand what owning your own pony would involve. From mucking out to grooming as well as riding and turning out your Pony.  Suitable for Adults Grade 1 – 6.\n£85 per person.\nAll bookings through our EC Pro.  There may be extra spaces for this depending on Horse availability please email office@snowballfarm.co.uk if full on line or call 01628 666 222
URL:https://www.snowballfarm.co.uk/event/own-a-horse-day/
CATEGORIES:Clients Activities
END:VEVENT
END:VCALENDAR