BEGIN:VCALENDAR
VERSION:2.0
PRODID:-//Snowball Farm - Equestrian Centre - ECPv5.14.0.4//NONSGML v1.0//EN
CALSCALE:GREGORIAN
METHOD:PUBLISH
X-WR-CALNAME:Snowball Farm - Equestrian Centre
X-ORIGINAL-URL:https://www.snowballfarm.co.uk
X-WR-CALDESC:Events for Snowball Farm - Equestrian Centre
BEGIN:VTIMEZONE
TZID:UTC
BEGIN:STANDARD
TZOFFSETFROM:+0000
TZOFFSETTO:+0000
TZNAME:UTC
DTSTART:20210101T000000
END:STANDARD
END:VTIMEZONE
BEGIN:VEVENT
DTSTART;TZID=UTC:20211027T100000
DTEND;TZID=UTC:20211027T130000
DTSTAMP:20260425T214007
CREATED:20210918T111932Z
LAST-MODIFIED:20210918T111932Z
UID:3013-1635328800-1635339600@www.snowballfarm.co.uk
SUMMARY:MINI OWN A PONY DAY
DESCRIPTION:A fun\, engaging day allowing you to understand what owning your own pony would involve.  Suitable for clients Grade 0 – 1.\n£48 per person.\nAll bookings through our EC Pro. \nPlease call the office on 01628 666 222 or email us office@snowballfarm.co.uk for if you have any questions.
URL:https://www.snowballfarm.co.uk/event/mini-own-a-pony-day/
CATEGORIES:Clients Activities
END:VEVENT
END:VCALENDAR