BEGIN:VCALENDAR
VERSION:2.0
PRODID:-//Snowball Farm - Equestrian Centre - ECPv5.14.0.4//NONSGML v1.0//EN
CALSCALE:GREGORIAN
METHOD:PUBLISH
X-WR-CALNAME:Snowball Farm - Equestrian Centre
X-ORIGINAL-URL:https://www.snowballfarm.co.uk
X-WR-CALDESC:Events for Snowball Farm - Equestrian Centre
BEGIN:VTIMEZONE
TZID:UTC
BEGIN:STANDARD
TZOFFSETFROM:+0000
TZOFFSETTO:+0000
TZNAME:UTC
DTSTART:20240101T000000
END:STANDARD
END:VTIMEZONE
BEGIN:VEVENT
DTSTART;TZID=UTC:20241030T093000
DTEND;TZID=UTC:20241030T123000
DTSTAMP:20260420T032511
CREATED:20241023T144436Z
LAST-MODIFIED:20241023T144436Z
UID:3594-1730280600-1730291400@www.snowballfarm.co.uk
SUMMARY:Mini Own a Pony Day
DESCRIPTION:A fun\, engaging morning allowing you to understand what owning your own pony would involve. From mucking out to grooming as well as riding and turning out your Pony. \nOpen to Grade 0  – Grade 2\, age 6 yrs – 11 years \n£52 per person. \nAll bookings through ECPro: Snowball Farm
URL:https://www.snowballfarm.co.uk/event/mini-own-a-pony-day-6/
CATEGORIES:Clients Activities
END:VEVENT
END:VCALENDAR