BEGIN:VCALENDAR
VERSION:2.0
PRODID:-//Snowball Farm - Equestrian Centre - ECPv5.14.0.4//NONSGML v1.0//EN
CALSCALE:GREGORIAN
METHOD:PUBLISH
X-WR-CALNAME:Snowball Farm - Equestrian Centre
X-ORIGINAL-URL:https://www.snowballfarm.co.uk
X-WR-CALDESC:Events for Snowball Farm - Equestrian Centre
BEGIN:VTIMEZONE
TZID:UTC
BEGIN:STANDARD
TZOFFSETFROM:+0000
TZOFFSETTO:+0000
TZNAME:UTC
DTSTART:20210101T000000
END:STANDARD
END:VTIMEZONE
BEGIN:VEVENT
DTSTART;TZID=UTC:20211010T090000
DTEND;TZID=UTC:20211017T180000
DTSTAMP:20260425T155422
CREATED:20210918T114022Z
LAST-MODIFIED:20210918T114022Z
UID:3017-1633856400-1634493600@www.snowballfarm.co.uk
SUMMARY:CROSS COUNTRY COURSE HIRE
DESCRIPTION:To enter for an event\, click on the event name which will open a new page (please make sure you have enabled pop-ups). To add the event to your own calendar\, click the ‘outlook’ icon to download the ‘ics file’ for event details. \nIf you experience any difficulties making an entry\, please call 07798 626075 or email support@affairsgroup.co.uk \n 
URL:https://www.snowballfarm.co.uk/event/cross-country-course-hire-4/
CATEGORIES:Facilities Hire
END:VEVENT
END:VCALENDAR