BEGIN:VCALENDAR
VERSION:2.0
PRODID:-//Snowball Farm - Equestrian Centre - ECPv5.14.0.4//NONSGML v1.0//EN
CALSCALE:GREGORIAN
METHOD:PUBLISH
X-WR-CALNAME:Snowball Farm - Equestrian Centre
X-ORIGINAL-URL:https://www.snowballfarm.co.uk
X-WR-CALDESC:Events for Snowball Farm - Equestrian Centre
BEGIN:VTIMEZONE
TZID:UTC
BEGIN:STANDARD
TZOFFSETFROM:+0000
TZOFFSETTO:+0000
TZNAME:UTC
DTSTART:20230101T000000
END:STANDARD
END:VTIMEZONE
BEGIN:VEVENT
DTSTART;VALUE=DATE:20230217
DTEND;VALUE=DATE:20230218
DTSTAMP:20260424T125055
CREATED:20230106T095847Z
LAST-MODIFIED:20230106T095847Z
UID:3337-1676592000-1676678399@www.snowballfarm.co.uk
SUMMARY:Clients Show Jumping
DESCRIPTION:Adults £ 31.00\, Children £22.50 \nPlease send an Email to office@snowballfarm.co.uk stating your interest and pony request and we will be in touch once horses have been allocated to let you know if you have a space.  This will be done a first come first served basis.
URL:https://www.snowballfarm.co.uk/event/clients-show-jumping-4/
CATEGORIES:Clients Activities
END:VEVENT
END:VCALENDAR